BEGIN:VCALENDAR
VERSION:2.0
PRODID:-//Department Of Education//f22740b7-f297-40c0-927f-652805cfd9e3
BEGIN:VTIMEZONE
TZID:Australia/Sydney
TZURL:http://tzurl.org/zoneinfo-outlook/Australia/Sydney
X-LIC-LOCATION:Australia/Sydney
BEGIN:STANDARD
TZOFFSETFROM:+1100
TZOFFSETTO:+1000
TZNAME:AEST
DTSTART:19700405T030000
RRULE:FREQ=YEARLY;BYMONTH=4;BYDAY=1SU
END:STANDARD
BEGIN:DAYLIGHT
TZOFFSETFROM:+1000
TZOFFSETTO:+1100
TZNAME:AEDT
DTSTART:19701004T020000
RRULE:FREQ=YEARLY;BYMONTH=10;BYDAY=1SU
END:DAYLIGHT
END:VTIMEZONE
CALSCALE:GREGORIAN
X-WR-TIMEZONE:Australia/Sydney
BEGIN:VEVENT
DTSTART;TZID=Australia/Sydney:20200221T084504
DTEND;TZID=Australia/Sydney:20200221T143011
DTSTAMP:20200221T000000Z
UID:391970cb-1685-48af-99fe-72fff3745d0d
LOCATION:Warragamba Dam
SUMMARY;LANGUAGE=en-us:IEC Excursion to Warragamba Dam
SEQUENCE:0
DESCRIPTION:IEC science classes 3I and A will visit Warragamba Dam to look at the water cycle and energy. 
END:VEVENT
TRANSP:TRANSPARENT
END:VCALENDAR
