BEGIN:VCALENDAR
VERSION:2.0
PRODID:-//Department Of Education//0ae890c4-ad0e-41c8-8159-aaac2598a80b
BEGIN:VTIMEZONE
TZID:Australia/Sydney
TZURL:http://tzurl.org/zoneinfo-outlook/Australia/Sydney
X-LIC-LOCATION:Australia/Sydney
BEGIN:STANDARD
TZOFFSETFROM:+1100
TZOFFSETTO:+1000
TZNAME:AEST
DTSTART:19700405T030000
RRULE:FREQ=YEARLY;BYMONTH=4;BYDAY=1SU
END:STANDARD
BEGIN:DAYLIGHT
TZOFFSETFROM:+1000
TZOFFSETTO:+1100
TZNAME:AEDT
DTSTART:19701004T020000
RRULE:FREQ=YEARLY;BYMONTH=10;BYDAY=1SU
END:DAYLIGHT
END:VTIMEZONE
CALSCALE:GREGORIAN
X-WR-TIMEZONE:Australia/Sydney
BEGIN:VEVENT
DTSTART;TZID=Australia/Sydney:20200226T081545
DTEND;TZID=Australia/Sydney:20200226T150037
DTSTAMP:20200226T000000Z
UID:2ca76ed5-8c21-442a-8f9c-c06d2e88e53b
LOCATION:Fairfield Leisure Centre
SUMMARY;LANGUAGE=en-us:Lurnea High School's Swimming Carnival
SEQUENCE:0
DESCRIPTION:Lurnea High School's Swimming Carnival is at a new venue this year , Fairfield Leisure Centre. Students will travel to the pool by bus leaving at 8.15am from the school the cost is $8.00. Notes and money need to be in by Friday 21st February. Please see the Swimming Carnival note attached.
END:VEVENT
TRANSP:TRANSPARENT
END:VCALENDAR
