BEGIN:VCALENDAR
VERSION:2.0
PRODID:-//Department Of Education//c1258cb0-0dc0-4b57-b06e-e9f06fbad8cc
BEGIN:VTIMEZONE
TZID:Australia/Sydney
TZURL:http://tzurl.org/zoneinfo-outlook/Australia/Sydney
X-LIC-LOCATION:Australia/Sydney
BEGIN:STANDARD
TZOFFSETFROM:+1100
TZOFFSETTO:+1000
TZNAME:AEST
DTSTART:19700405T030000
RRULE:FREQ=YEARLY;BYMONTH=4;BYDAY=1SU
END:STANDARD
BEGIN:DAYLIGHT
TZOFFSETFROM:+1000
TZOFFSETTO:+1100
TZNAME:AEDT
DTSTART:19701004T020000
RRULE:FREQ=YEARLY;BYMONTH=10;BYDAY=1SU
END:DAYLIGHT
END:VTIMEZONE
CALSCALE:GREGORIAN
X-WR-TIMEZONE:Australia/Sydney
BEGIN:VEVENT
DTSTART;VALUE=DATE:20200302
DTEND;VALUE=DATE:20200303
DTSTAMP:20200302T000000Z
UID:44fb5afc-a146-439b-874b-4371f76ff4f9
LOCATION:ANSTO, Lucas Heights 
SUMMARY;LANGUAGE=en-us:Depth study excursion to ANSTO
SEQUENCE:0
DESCRIPTION:Year 11 Chemistry, Year 12 Investigating Science and Year 12 Physics will visit ANSTO and conduct first hand investigating. They will meet many scientist and will gain valuable knowledge. 
END:VEVENT
TRANSP:TRANSPARENT
END:VCALENDAR
