BEGIN:VCALENDAR
VERSION:2.0
PRODID:-//Department Of Education//622cd1e4-d3ff-42c9-b9c6-2c473f986722
BEGIN:VTIMEZONE
TZID:Australia/Sydney
TZURL:http://tzurl.org/zoneinfo-outlook/Australia/Sydney
X-LIC-LOCATION:Australia/Sydney
BEGIN:STANDARD
TZOFFSETFROM:+1100
TZOFFSETTO:+1000
TZNAME:AEST
DTSTART:19700405T030000
RRULE:FREQ=YEARLY;BYMONTH=4;BYDAY=1SU
END:STANDARD
BEGIN:DAYLIGHT
TZOFFSETFROM:+1000
TZOFFSETTO:+1100
TZNAME:AEDT
DTSTART:19701004T020000
RRULE:FREQ=YEARLY;BYMONTH=10;BYDAY=1SU
END:DAYLIGHT
END:VTIMEZONE
CALSCALE:GREGORIAN
X-WR-TIMEZONE:Australia/Sydney
BEGIN:VEVENT
DTSTART;VALUE=DATE:20200326
DTEND;VALUE=DATE:20200327
DTSTAMP:20200326T000000Z
UID:2d9830cd-08c2-46a7-b090-292fea5a4a3a
LOCATION:Lurnea High School
SUMMARY;LANGUAGE=en-us:UTS Fitness Testing Workshop
SEQUENCE:0
DESCRIPTION:Students from Year 9 PASS have been selected to participate in a Fitness Testing Workshop run by nationally accredited professionals as a part of the University of Technology Sydney.
END:VEVENT
TRANSP:TRANSPARENT
END:VCALENDAR
