BEGIN:VCALENDAR
VERSION:2.0
PRODID:-//Department Of Education//49025c94-35e6-4846-8db3-91cbc5fbb9ff
BEGIN:VTIMEZONE
TZID:Australia/Sydney
TZURL:http://tzurl.org/zoneinfo-outlook/Australia/Sydney
X-LIC-LOCATION:Australia/Sydney
BEGIN:STANDARD
TZOFFSETFROM:+1100
TZOFFSETTO:+1000
TZNAME:AEST
DTSTART:19700405T030000
RRULE:FREQ=YEARLY;BYMONTH=4;BYDAY=1SU
END:STANDARD
BEGIN:DAYLIGHT
TZOFFSETFROM:+1000
TZOFFSETTO:+1100
TZNAME:AEDT
DTSTART:19701004T020000
RRULE:FREQ=YEARLY;BYMONTH=10;BYDAY=1SU
END:DAYLIGHT
END:VTIMEZONE
CALSCALE:GREGORIAN
X-WR-TIMEZONE:Australia/Sydney
BEGIN:VEVENT
DTSTART;TZID=Australia/Sydney:20200320T110024
DTEND;TZID=Australia/Sydney:20200320T150041
DTSTAMP:20200320T000000Z
UID:48d99f8c-e02d-43fa-ab53-d9196c60258a
LOCATION:Lurnea High school's MPC
SUMMARY;LANGUAGE=en-us:WW1 Presentation for Year 10 students
SEQUENCE:0
DESCRIPTION:This incursion covers the difference between open and trench warfare in WW1.  A full size trench will be presented to students to get a true feel of their size and design. 
END:VEVENT
TRANSP:TRANSPARENT
END:VCALENDAR
